BEGIN:VCALENDAR
VERSION:2.0
PRODID:icalendar-ruby
CALSCALE:GREGORIAN
METHOD:PUBLISH
BEGIN:VEVENT
DTSTAMP:20260425T004054Z
UID:368-2512667@centralbaptistchurch.ca
DTSTART;VALUE=DATE:20260428
DTEND;VALUE=DATE:20260428
CLASS:PUBLIC
CREATED:20260424T143720
DESCRIPTION:Ladies\,\nThis week we are hoping to see some more wildflowers 
 in the Saanich area.\nWHEN: Tuesday\, April 28 at 9:30 am\nWHERE: Meet at
  Gowlland-Tod Prov. Park off Wallace Dr. across from Quarry Lake. Parking
  is on Wallace Dr. road near park entrance.\nCARPOOLING: from Commonwealt
 h Rec. Centre to leave by 9:10 am\nCOFFEE: plan for group coffee after th
 e walk. Enjoy the spring weather!\nAlice\nWalking in fun\, faith\, fitness
 \, and fellowship
LAST-MODIFIED:20260424T143720
LOCATION:
SUMMARY:Walking Soles
URL;VALUE=URI:https://www.centralbaptistchurch.ca/events/walking-soles--368
 /2026-04-28
ATTACH;FILENAME=walking.jpg;FMTTYPE=image/jpeg:https://dq5pwpg1q8ru0.cloudf
 ront.net/2022/09/19/15/31/52/d7a862fd-136b-408a-9856-6af845315934/walking.
 jpg
END:VEVENT
END:VCALENDAR
