BEGIN:VCALENDAR
VERSION:2.0
PRODID:icalendar-ruby
CALSCALE:GREGORIAN
METHOD:PUBLISH
BEGIN:VEVENT
DTSTAMP:20260420T211350Z
UID:124-2483399@centralbaptistchurch.ca
DTSTART:20261101T183000Z
DTEND:20261101T200000Z
CLASS:PUBLIC
CREATED:20260420T133215
DESCRIPTION:
LAST-MODIFIED:20260420T133215
LOCATION:
SUMMARY:Sunday Service
URL;VALUE=URI:https://www.centralbaptistchurch.ca/events/sunday-service--12
 4/2026-11-01
END:VEVENT
END:VCALENDAR
