BEGIN:VCALENDAR
VERSION:2.0
PRODID:icalendar-ruby
CALSCALE:GREGORIAN
METHOD:PUBLISH
BEGIN:VEVENT
DTSTAMP:20260420T193129Z
UID:124-2482192@centralbaptistchurch.ca
DTSTART:20261025T173000Z
DTEND:20261025T190000Z
CLASS:PUBLIC
CREATED:20260420T105636
DESCRIPTION:
LAST-MODIFIED:20260420T105636
LOCATION:
SUMMARY:Sunday Service
URL;VALUE=URI:https://www.centralbaptistchurch.ca/events/sunday-service--12
 4/2026-10-25
END:VEVENT
END:VCALENDAR
