BEGIN:VCALENDAR
VERSION:2.0
PRODID:icalendar-ruby
CALSCALE:GREGORIAN
METHOD:PUBLISH
BEGIN:VEVENT
DTSTAMP:20260420T174618Z
UID:124-2480985@centralbaptistchurch.ca
DTSTART:20261018T173000Z
DTEND:20261018T190000Z
CLASS:PUBLIC
CREATED:20260420T082223
DESCRIPTION:
LAST-MODIFIED:20260420T082223
LOCATION:
SUMMARY:Sunday Service
URL;VALUE=URI:https://www.centralbaptistchurch.ca/events/sunday-service--12
 4/2026-10-18
END:VEVENT
END:VCALENDAR
