BEGIN:VCALENDAR
VERSION:2.0
PRODID:icalendar-ruby
CALSCALE:GREGORIAN
METHOD:PUBLISH
BEGIN:VEVENT
DTSTAMP:20260420T141809Z
UID:124-2479777@centralbaptistchurch.ca
DTSTART:20261004T173000Z
DTEND:20261004T190000Z
CLASS:PUBLIC
CREATED:20260420T054816
DESCRIPTION:
LAST-MODIFIED:20260420T054816
LOCATION:
SUMMARY:Sunday Service
URL;VALUE=URI:https://www.centralbaptistchurch.ca/events/sunday-service--12
 4/2026-10-04
END:VEVENT
END:VCALENDAR
