BEGIN:VCALENDAR
VERSION:2.0
PRODID:icalendar-ruby
CALSCALE:GREGORIAN
METHOD:PUBLISH
BEGIN:VEVENT
DTSTAMP:20260423T145329Z
UID:405-2446368@centralbaptistchurch.ca
DTSTART:20260509T170000Z
DTEND:20260509T210000Z
CLASS:PUBLIC
CREATED:20260415T122555
DESCRIPTION:\n\n\n\nCentral invites you to help build community relationshi
 ps by joining us at Quadra Village Day. This is a unique opportunity as th
 is is the one time of the year that the community seeks us out and invite
 s us to participate. Many of our Urban Adventures and Qwanoes Campers atte
 nd because of our involvement at Quadra Village Day.\n\n\n\n\n\n\n\n\nWhen
 : Saturday May 9th from 9:30am-1:30pm\nWhere: On Kings Rd between Quadra a
 nd Dowler\nWhat: Hosting games\, interacting with the community\, and adve
 rtising our Urban Adventures Summer Camp.\n\n\n\n\nIf you are able to volu
 nteer for this event\, please sign up here\nContact: Jennifer Wade (jennif
 er@centralbaptistchurch.ca)
LAST-MODIFIED:20260415T122555
LOCATION:
SUMMARY:Quadra Village Day
URL;VALUE=URI:https://www.centralbaptistchurch.ca/events/quadra-village-day
 /2026-05-09
ATTACH;FILENAME=Newcomers Track Draft(Presentation (169) (17).png;FMTTYPE=i
 mage/png:https://dq5pwpg1q8ru0.cloudfront.net/2024/04/15/18/40/48/3fc24c09
 -4bbc-4078-b105-4c6159fa8584/Newcomers%20Track%20Draft(Presentation%20(169
 )%20(17).png
END:VEVENT
END:VCALENDAR
