BEGIN:VCALENDAR
VERSION:2.0
PRODID:icalendar-ruby
CALSCALE:GREGORIAN
METHOD:PUBLISH
BEGIN:VEVENT
DTSTAMP:20260420T133610Z
UID:369-2400810@centralbaptistchurch.ca
DTSTART:20260430T013000Z
DTEND:20260430T030000Z
CLASS:PUBLIC
CREATED:20260409T082613
DESCRIPTION:This class is for those who are interested in membership or tho
 se who want to know what membership at Central is all about.\nQuestions? c
 ontact the church office\nSign Up for the class
LAST-MODIFIED:20260409T082613
LOCATION:Central Baptist Church
SUMMARY:Membership Class
URL;VALUE=URI:https://www.centralbaptistchurch.ca/events/membership-class/2
 026-04-29
ATTACH;FILENAME=Newcomers Track Draft(Presentation (169) (1).png;FMTTYPE=im
 age/png:https://dq5pwpg1q8ru0.cloudfront.net/2026/04/09/15/26/12/d35d77c8-
 b691-4991-9555-0521aee22433/Newcomers%20Track%20Draft(Presentation%20(169)
 %20(1).png
END:VEVENT
END:VCALENDAR
